BEGIN:VCALENDAR
VERSION:2.0
PRODID:-//Sol Playce - ECPv6.0.7.1//NONSGML v1.0//EN
CALSCALE:GREGORIAN
METHOD:PUBLISH
X-ORIGINAL-URL:https://solplayce.com
X-WR-CALDESC:Events for Sol Playce
REFRESH-INTERVAL;VALUE=DURATION:PT1H
X-Robots-Tag:noindex
X-PUBLISHED-TTL:PT1H
BEGIN:VTIMEZONE
TZID:America/Halifax
BEGIN:DAYLIGHT
TZOFFSETFROM:-0400
TZOFFSETTO:-0300
TZNAME:ADT
DTSTART:20240310T060000
END:DAYLIGHT
BEGIN:STANDARD
TZOFFSETFROM:-0300
TZOFFSETTO:-0400
TZNAME:AST
DTSTART:20241103T050000
END:STANDARD
TZID:UTC
BEGIN:STANDARD
TZOFFSETFROM:+0000
TZOFFSETTO:+0000
TZNAME:UTC
DTSTART:20230101T000000
END:STANDARD
END:VTIMEZONE
BEGIN:VEVENT
DTSTART;TZID=America/Halifax:20240509T160000
DTEND;TZID=America/Halifax:20240509T180000
DTSTAMP:20260423T134759
CREATED:20240417T170025Z
LAST-MODIFIED:20240417T173447Z
UID:9377-1715270400-1715277600@solplayce.com
SUMMARY:Doctor Day with Dr. Gabriella Dauer
DESCRIPTION:Come have a Doctor Play Date with Pediatrician Dr. Gaby Dauer\, MD  \nDuring our session\, your kiddos will learn about human body anatomy and how to use pediatric tools to complete a medical exam-all through reading and play with Dr. Dauer. \nDoes your kiddo fear going to their Pediatric appointments? Through consistent and positive play and exposure\, your child will gain comfort and confidence in the medical environment and medical professionals. \nDo you have questions about the health and wellness of your kids? Come prepared with a general question for Dr. Dauer who is happy to answer it! *Please\, no personal medical advice requests ❤️ \nDr. Gabriella Dauer\, MD is a double board-certified pediatric hospitalist and general pediatrician who is now seeing kiddos in the comfort of their homes through house calls\, concierge newborn care\, and telehealth medicine in Broward and Dade Counties. Call Dr. Dauer to schedule your kiddos appointment at 954-668-8071  \nOne ticket includes one adult and one child.
URL:https://solplayce.com/event/doctor-day-with-dr-gabriella-dauer/
LOCATION:Sol Playce\, 6807 Stirling Road\, Davie\, FL\, 33314\, United States
CATEGORIES:Children Event
ATTACH;FMTTYPE=image/png:https://solplayce.com/wp-content/uploads/2024/04/Untitled-design-9.png
END:VEVENT
BEGIN:VEVENT
DTSTART;TZID=UTC:20240504T100000
DTEND;TZID=UTC:20240504T120000
DTSTAMP:20260423T134759
CREATED:20240223T230257Z
LAST-MODIFIED:20240223T230257Z
UID:9022-1714816800-1714824000@solplayce.com
SUMMARY:Brushes + Bites: Celebrating Mom Through Art
DESCRIPTION:Join Tiny Artisan Events x Sol Playce for Brushes + Bites Celebrating Mom Through Art for a morning of fun!  \nMom + Child: $55/ $28 for siblings  \nIncludes:\n1 canvas + 1 ceramic\nVariety of craft materials\nrefreshments & sweets\nopen play  \nonly 14 spots available
URL:https://solplayce.com/event/brushes-bites-celebrating-mom-through-art/
LOCATION:Sol Playce\, 6807 Stirling Road\, Davie\, FL\, 33314\, United States
CATEGORIES:Children Event
ATTACH;FMTTYPE=image/jpeg:https://solplayce.com/wp-content/uploads/2024/02/5266ecf8-fa34-4b08-8288-ff50b804c618.jpg
END:VEVENT
BEGIN:VEVENT
DTSTART;TZID=America/Halifax:20240428T100000
DTEND;TZID=America/Halifax:20240428T120000
DTSTAMP:20260423T134759
CREATED:20240417T191157Z
LAST-MODIFIED:20250313T183251Z
UID:9388-1714298400-1714305600@solplayce.com
SUMMARY:Mom + Me Mini Shoot
DESCRIPTION:Join us for a special Mom + Me boho inspired photoshoot at Sol Playce by Vogtography  \n10 minute session for $75 | 10-15 photos\nIncludes open play and a mimosa for Mom
URL:https://solplayce.com/event/mom-me-mini-shoot/
LOCATION:Sol Playce\, 6807 Stirling Road\, Davie\, FL\, 33314\, United States
CATEGORIES:Children Event
ATTACH;FMTTYPE=image/png:https://solplayce.com/wp-content/uploads/2024/04/CB57F410-5236-4207-BA18-BE36AFF3E9D9.png
END:VEVENT
BEGIN:VEVENT
DTSTART;TZID=America/Halifax:20240426T100000
DTEND;TZID=America/Halifax:20240426T120000
DTSTAMP:20260423T134759
CREATED:20240404T004232Z
LAST-MODIFIED:20240404T004315Z
UID:9283-1714125600-1714132800@solplayce.com
SUMMARY:Peppa Pig Sensory Party
DESCRIPTION:Peppa Pig coming to spend the morning with us and our little friends. This event will include open play\, sensory fun\, games\, dancing\, entertainment\, photo opportunities ! Costumes are encouraged! \nEach ticket includes admission for one adult and one child. Additional fee for additional adults will be $10 and can be paid upon arrival.
URL:https://solplayce.com/event/peppa-pig-sensory-party/
LOCATION:Sol Playce\, 6807 Stirling Road\, Davie\, FL\, 33314\, United States
CATEGORIES:Children Event
ATTACH;FMTTYPE=image/png:https://solplayce.com/wp-content/uploads/2022/11/Unknown-1.png
END:VEVENT
BEGIN:VEVENT
DTSTART;TZID=America/Halifax:20240425T160000
DTEND;TZID=America/Halifax:20240425T180000
DTSTAMP:20260423T134759
CREATED:20240410T172546Z
LAST-MODIFIED:20240412T163504Z
UID:9290-1714060800-1714068000@solplayce.com
SUMMARY:Passover Pop Up with PJ Library
DESCRIPTION:Join us for a fun filled afternoon with PJ Library! Little one’s will enjoy crafts\, open plan\, story time and sensory experiences that are all Passover themed.  \nSpecial rate $10 per child.
URL:https://solplayce.com/event/passover-pop-up-with-pj-library/
LOCATION:Sol Playce\, 6807 Stirling Road\, Davie\, FL\, 33314\, United States
CATEGORIES:Children Event
ATTACH;FMTTYPE=image/png:https://solplayce.com/wp-content/uploads/2024/04/Untitled-design-18.png
END:VEVENT
BEGIN:VEVENT
DTSTART;TZID=America/Halifax:20240411T160000
DTEND;TZID=America/Halifax:20240411T180000
DTSTAMP:20260423T134759
CREATED:20240404T003659Z
LAST-MODIFIED:20240404T003659Z
UID:9275-1712851200-1712858400@solplayce.com
SUMMARY:Rapunzel's Braid + Play Date
DESCRIPTION:Rapunzel is coming  down her tower to spend the afternoon with us and our little friends. This event will include open play\, games\, dancing\, entertainment\, photo opportunities and hair braiding station!  \nEach ticket includes admission for one adult and one child. Additional fee for additional adults will be $10 and can be paid upon arrival. \nNo refunds or credits for events.
URL:https://solplayce.com/event/rapunzels-braid-play-date/
LOCATION:Sol Playce\, 6807 Stirling Road\, Davie\, FL\, 33314\, United States
CATEGORIES:Children Event
ATTACH;FMTTYPE=image/jpeg:https://solplayce.com/wp-content/uploads/2024/04/123_1-3-scaled.jpeg
END:VEVENT
BEGIN:VEVENT
DTSTART;TZID=UTC:20240409T103000
DTEND;TZID=UTC:20240409T110000
DTSTAMP:20260423T134759
CREATED:20240326T160018Z
LAST-MODIFIED:20240408T165644Z
UID:9029-1712658600-1712660400@solplayce.com
SUMMARY:Legacy's Unique World Book Reading
DESCRIPTION:In honor of April being Autism Awareness month\, join us for a book reading of Legacy’s Unique World written by Nandy Smith! Includes 2 hours of open play.
URL:https://solplayce.com/event/legacys-unique-world-x-sensory-mama-autism-awareness-event/
LOCATION:Sol Playce\, 6807 Stirling Road\, Davie\, FL\, 33314\, United States
CATEGORIES:Children Event
ATTACH;FMTTYPE=image/jpeg:https://solplayce.com/wp-content/uploads/2024/02/IMG_1575.jpg
END:VEVENT
BEGIN:VEVENT
DTSTART;TZID=UTC:20240405T110000
DTEND;TZID=UTC:20240405T113000
DTSTAMP:20260423T134759
CREATED:20240318T200923Z
LAST-MODIFIED:20240318T200923Z
UID:9162-1712314800-1712316600@solplayce.com
SUMMARY:Paige And Her Pup by Robin King Book Reading
DESCRIPTION:Join Robin King\, author of Paige And Her Pup and she reads her new book inspired by her daughter! This book reading will be included in open play. Open play admission is $15 for two hours  \nBook Reading: 11 AM  \nPaige And Her Pup will be available to purchase.
URL:https://solplayce.com/event/paige-and-her-pup-by-robin-king-book-reading/
LOCATION:Sol Playce\, 6807 Stirling Road\, Davie\, FL\, 33314\, United States
CATEGORIES:Children Event
ATTACH;FMTTYPE=image/jpeg:https://solplayce.com/wp-content/uploads/2024/03/1F1AC3A9-8C33-4FA4-A74F-D7322C707507.jpg
END:VEVENT
BEGIN:VEVENT
DTSTART;TZID=UTC:20240329T160000
DTEND;TZID=UTC:20240329T180000
DTSTAMP:20260423T134759
CREATED:20240219T023658Z
LAST-MODIFIED:20240219T023842Z
UID:8964-1711728000-1711735200@solplayce.com
SUMMARY:Easter Bunny Egg Hunt
DESCRIPTION:The Easter Bunny is coming to spend the afternoon with us. This fun event will include open play\, an egg hunt with prizes\, games\, dancing\, entertainment\, photo opportunities\, ice cream and more. Festive outfits are encouraged!  \nOne ticket includes admission for one adult and one child. There are no refunds or credit for character events.
URL:https://solplayce.com/event/easter-bunny-egg-hunt/
LOCATION:Sol Playce\, 6807 Stirling Road\, Davie\, FL\, 33314\, United States
CATEGORIES:Children Event
ATTACH;FMTTYPE=image/jpeg:https://solplayce.com/wp-content/uploads/2024/02/123_1-scaled.jpeg
END:VEVENT
BEGIN:VEVENT
DTSTART;TZID=UTC:20240322T100000
DTEND;TZID=UTC:20240322T120000
DTSTAMP:20260423T134759
CREATED:20240223T201318Z
LAST-MODIFIED:20240223T201318Z
UID:8960-1711101600-1711108800@solplayce.com
SUMMARY:Ms. Rachel Play Date + Sensory Fun
DESCRIPTION:Join us for a special visit with Ms. Rachel (impersonator) as she talks to our little friends about colors + fruits and veggies! This event will include open play\, games\, dancing\, entertainment\, photo opportunities and sensory activities by Wonder Play Miami. Costumes are encouraged! Each ticket includes admission for one adult and one child. Additional fee for additional adults will be $10 and can be paid upon arrival. \n No refunds or credits for events.
URL:https://solplayce.com/event/ms-rachel-play-date-sensory-fun/
LOCATION:Sol Playce\, 6807 Stirling Road\, Davie\, FL\, 33314\, United States
CATEGORIES:Children Event
ATTACH;FMTTYPE=image/jpeg:https://solplayce.com/wp-content/uploads/2024/02/123_1-2-scaled.jpeg
END:VEVENT
BEGIN:VEVENT
DTSTART;TZID=UTC:20240311T160000
DTEND;TZID=UTC:20240311T180000
DTSTAMP:20260423T134759
CREATED:20240229T223203Z
LAST-MODIFIED:20240710T181631Z
UID:9077-1710172800-1710180000@solplayce.com
SUMMARY:This Episode is Called: Bluey (2.0)
DESCRIPTION:Bluey and her loveable spirit is coming to spend the morning with us and our little friends. This event will include open play\, games\, dancing\, entertainment\, photo opportunities and crafts!  \nEach ticket includes admission for one adult and one child. Additional fee for additional adults will be $10 and can be paid upon arrival. \nNo refunds or credits for events.
URL:https://solplayce.com/event/this-episode-is-called-bluey-2-0/
LOCATION:Sol Playce\, 6807 Stirling Road\, Davie\, FL\, 33314\, United States
CATEGORIES:Children Event
ATTACH;FMTTYPE=image/jpeg:https://solplayce.com/wp-content/uploads/2024/02/IMG_2248-scaled.jpg
END:VEVENT
BEGIN:VEVENT
DTSTART;TZID=UTC:20240228T110000
DTEND;TZID=UTC:20240228T120000
DTSTAMP:20260423T134759
CREATED:20240207T220619Z
LAST-MODIFIED:20240207T220619Z
UID:8769-1709118000-1709121600@solplayce.com
SUMMARY:Big Bro + Big Sis Promotion Sensory Prep
DESCRIPTION:Is your little one getting a new baby brother or sister? We have partnered with The Zensory Lab and Ashli the Mama Coach to create a class that caters to growing families. With the guidance of tools and tips from The Mama Coach and pretend play + sensory stations by The Zensory Lab
URL:https://solplayce.com/event/big-bro-big-sis-promotion-sensory-prep/
LOCATION:Sol Playce\, 6807 Stirling Road\, Davie\, FL\, 33314\, United States
CATEGORIES:Children Event
ATTACH;FMTTYPE=image/png:https://solplayce.com/wp-content/uploads/2024/01/new-baby-prep.png
END:VEVENT
BEGIN:VEVENT
DTSTART;TZID=UTC:20240219T160000
DTEND;TZID=UTC:20240219T180000
DTSTAMP:20260423T134759
CREATED:20240213T052731Z
LAST-MODIFIED:20240213T052731Z
UID:8941-1708358400-1708365600@solplayce.com
SUMMARY:This Episode is Called Bluey
DESCRIPTION:Bluey and her loveable spirit is coming to spend the afternoon with us and our little friends. This event will include open play\, games\, dancing\, entertainment\, photo opportunities and crafts!  \nEach ticket includes admission for one adult and one child. Additional fee for additional adults will be $10 and can be paid upon arrival. \nNo refunds or credits for events.
URL:https://solplayce.com/event/this-episode-is-called-bluey/
LOCATION:Sol Playce\, 6807 Stirling Road\, Davie\, FL\, 33314\, United States
CATEGORIES:Children Event
ATTACH;FMTTYPE=image/jpeg:https://solplayce.com/wp-content/uploads/2024/02/IMG_8952.jpg
END:VEVENT
BEGIN:VEVENT
DTSTART;TZID=UTC:20240214T100000
DTEND;TZID=UTC:20240214T120000
DTSTAMP:20260423T134759
CREATED:20240105T200255Z
LAST-MODIFIED:20240129T215332Z
UID:8728-1707904800-1707912000@solplayce.com
SUMMARY:Minnie's Valentine's Day Party
DESCRIPTION:Join us for a special sensory Valentine’s Day event with Minnie. This event will include open play\, games\, dancing\, entertainment\, sensory stations and crafts.\nEach ticket includes admission for one adult and one child. Additional fee for additional adults will be $10 and can be paid upon arrival.  \nThe Zensory Lab Sensory 10-10:45\nMinnie Mouse visits 10:45-11:45  \nThere are no refunds or credits issued for character events.
URL:https://solplayce.com/event/minnies-valentines-day-party/
LOCATION:Sol Playce\, 6807 Stirling Road\, Davie\, FL\, 33314\, United States
CATEGORIES:Children Event
ATTACH;FMTTYPE=image/jpeg:https://solplayce.com/wp-content/uploads/2024/01/123_1-6.jpeg
END:VEVENT
BEGIN:VEVENT
DTSTART;TZID=UTC:20240207T110000
DTEND;TZID=UTC:20240207T120000
DTSTAMP:20260423T134759
CREATED:20240112T192159Z
LAST-MODIFIED:20240112T194603Z
UID:8764-1707303600-1707307200@solplayce.com
SUMMARY:Twinkle Twinkle: Sleep + Sensory Workshop
DESCRIPTION:Calling all parents navigating infant and toddler sleep challenges! If your little one has turned your nights into a sleep puzzle\, help is here! We are collaborating with The Zensory Lab and Ashli the Mama Coach to bring you a one of a kind class that fuses sensory fun and sleep tools to help your little one + you get a better nights sleep. \nIn this workshop\, led by a Registered Nurse\, Lactation & Sleep Coach\, we will dive fully into the science of baby sleep. We’ll chat about how to create an optimal sleep environment and establish solid sleep routines tailored for little ones. The Zensory Lab will be on hand for the kids to immerse themselves in sleep themed interactive play and sensory activities\, so that you can absorb all the information you need while they have fun! \nCommon sleep hurdles\, including early morning wakings\, sleep regressions\, frequent night awakenings\, and short naps\, will be tackled with practical solutions. As a bonus\, each family will receive a valuable ‘More Than Sleep’ companion eBook for ongoing reference.
URL:https://solplayce.com/event/twinkle-twinkle-sleep-sensory-workshop/
LOCATION:FL
CATEGORIES:Children Event
ATTACH;FMTTYPE=image/png:https://solplayce.com/wp-content/uploads/2024/01/sleep-sensory-workshop.png
END:VEVENT
BEGIN:VEVENT
DTSTART;TZID=UTC:20240121T090000
DTEND;TZID=UTC:20240121T110000
DTSTAMP:20260423T134759
CREATED:20240105T231157Z
LAST-MODIFIED:20240109T002319Z
UID:8738-1705827600-1705834800@solplayce.com
SUMMARY:Baby Shark Doo Doo Doo
DESCRIPTION:Join us for special morning with Baby Shark. This fun event will include open play\, games\, dancing\, entertainment\, sensory fun\, photo opportunities and more. \n9-10 Baby Shark Appearance\n10-11 The Zensory Lab Pop Up \nOne ticket includes admission for one adult and one child. \nThere are no refunds or credit for character events.
URL:https://solplayce.com/event/baby-shark-doo-doo-doo/
LOCATION:Sol Playce\, 6807 Stirling Road\, Davie\, FL\, 33314\, United States
CATEGORIES:Children Event
ATTACH;FMTTYPE=image/jpeg:https://solplayce.com/wp-content/uploads/2022/08/babyshark-scaled.jpeg
END:VEVENT
BEGIN:VEVENT
DTSTART;TZID=UTC:20231231T100000
DTEND;TZID=UTC:20231231T121500
DTSTAMP:20260423T134759
CREATED:20231130T201853Z
LAST-MODIFIED:20231130T201853Z
UID:8478-1704016800-1704024900@solplayce.com
SUMMARY:Noon Year's Eve Party
DESCRIPTION:Join us for a Noon Years Eve apple juice toast and dance party as the little one’s will dress up and party to ring in the new year.
URL:https://solplayce.com/event/noon-years-eve-party/
LOCATION:Sol Playce\, 6807 Stirling Road\, Davie\, FL\, 33314\, United States
CATEGORIES:Children Event
ATTACH;FMTTYPE=image/png:https://solplayce.com/wp-content/uploads/2023/11/Untitled-design-6.png
END:VEVENT
BEGIN:VEVENT
DTSTART;TZID=UTC:20231223T100000
DTEND;TZID=UTC:20231223T120000
DTSTAMP:20260423T134759
CREATED:20231101T201117Z
LAST-MODIFIED:20231101T201117Z
UID:8218-1703325600-1703332800@solplayce.com
SUMMARY:Cookies with Santa
DESCRIPTION:Join us for a special event with Santa Claus. This event will include open play\, games\, dancing\, entertainment\, cookie decorating and photo opportunities with Santa. Costumes are encouraged! Each ticket includes admission for one adult and one child. Additional fee for additional adults will be $10 and can be paid upon arrival.
URL:https://solplayce.com/event/cookieswithsanta/
LOCATION:Sol Playce\, 6807 Stirling Road\, Davie\, FL\, 33314\, United States
CATEGORIES:Children Event
ATTACH;FMTTYPE=image/jpeg:https://solplayce.com/wp-content/uploads/2023/11/123_1-4.jpeg
END:VEVENT
BEGIN:VEVENT
DTSTART;TZID=UTC:20231216T100000
DTEND;TZID=UTC:20231216T120000
DTSTAMP:20260423T134759
CREATED:20231130T210018Z
LAST-MODIFIED:20231130T210018Z
UID:8486-1702720800-1702728000@solplayce.com
SUMMARY:Ultimate Ugly Sweater Holiday Party
DESCRIPTION:Grab the most festive sweater you and your little one has and join us for a holiday ugly sweater party! Guests will enjoy our hot cocoa bar with an array of holiday toppings! \nWhatever holiday you are celebrating this season\, come decked out for a chance to compete in our Ugly Sweater challenge where the winner will receive a one month free membership!
URL:https://solplayce.com/event/ultimate-ugly-sweater-holiday-party/
LOCATION:Sol Playce\, 6807 Stirling Road\, Davie\, FL\, 33314\, United States
CATEGORIES:Children Event
ATTACH;FMTTYPE=image/png:https://solplayce.com/wp-content/uploads/2023/11/Untitled-design-8.png
END:VEVENT
BEGIN:VEVENT
DTSTART;TZID=UTC:20231211T160000
DTEND;TZID=UTC:20231211T180000
DTSTAMP:20260423T134759
CREATED:20231101T185818Z
LAST-MODIFIED:20231101T185818Z
UID:8215-1702310400-1702317600@solplayce.com
SUMMARY:Mickey and Minnie Hanukkah
DESCRIPTION:Join us for a special Hanukkah event with Mickey and Minnie. This event will include open play\, games\, dancing\, entertainment\, candle lighting and professional photo opportunities with Mickey and Minnie. Costumes are encouraged! Each ticket includes admission for one adult and one child plus professional photographs of your family. Additional fee for additional adults will be $10 and can be paid upon arrival.  \nPhotography by Vogtography
URL:https://solplayce.com/event/mickey-and-minnie-hanukkah/
LOCATION:Sol Playce\, 6807 Stirling Road\, Davie\, FL\, 33314\, United States
CATEGORIES:Children Event
ATTACH;FMTTYPE=image/jpeg:https://solplayce.com/wp-content/uploads/2023/10/123_1-3-e1732036344681.jpeg
END:VEVENT
BEGIN:VEVENT
DTSTART;TZID=UTC:20231204T160000
DTEND;TZID=UTC:20231204T180000
DTSTAMP:20260423T134759
CREATED:20231101T175402Z
LAST-MODIFIED:20231101T175603Z
UID:8206-1701705600-1701712800@solplayce.com
SUMMARY:Frozen Winter Extravaganza
DESCRIPTION:Join us for a special event with Olaf and Elsa. This event will include open play\, games\, dancing\, Ice Cream station\, entertainment and photo opportunities with Olaf and Elsa. Costumes are encouraged! Each ticket includes admission for one adult and one child. Additional fee for additional adults will be $10 and can be paid upon arrival.
URL:https://solplayce.com/event/frozen-winter-extravaganza/
LOCATION:Sol Playce\, 6807 Stirling Road\, Davie\, FL\, 33314\, United States
CATEGORIES:Children Event
ATTACH;FMTTYPE=image/jpeg:https://solplayce.com/wp-content/uploads/2023/10/123_1.jpg
END:VEVENT
BEGIN:VEVENT
DTSTART;TZID=UTC:20231113T160000
DTEND;TZID=UTC:20231113T180000
DTSTAMP:20260423T134759
CREATED:20231023T205702Z
LAST-MODIFIED:20231113T204823Z
UID:8258-1699891200-1699898400@solplayce.com
SUMMARY:BYOB: Build Your Own Bear
DESCRIPTION:Join us for a fun afternoon where your little one will get a chance to build a fur-ever friend! They will choose their own bear and watch as it get stuffed and ready just for them! Each child will get to make a wish and create birth certificate.   \nOpen play from 4-6\nBuild Your Own Bear 4:30-5:30  \nNon refundable. No credits will be issued for missing this event.
URL:https://solplayce.com/event/byob-build-your-own-bear-2/
LOCATION:Sol Playce\, 6807 Stirling Road\, Davie\, FL\, 33314\, United States
CATEGORIES:Children Event
ATTACH;FMTTYPE=image/jpeg:https://solplayce.com/wp-content/uploads/2023/08/Untitled-design-16.jpg
END:VEVENT
BEGIN:VEVENT
DTSTART;TZID=UTC:20231002T160000
DTEND;TZID=UTC:20231002T180000
DTSTAMP:20260423T134759
CREATED:20230724T182414Z
LAST-MODIFIED:20230724T182437Z
UID:7426-1696262400-1696269600@solplayce.com
SUMMARY:Chase and Skye's Mighty Play Date
DESCRIPTION:Join us for a special event with Chase and Skye. This event will include open play\, games\, dancing\, entertainment and photo opportunities with Chase and Skye. Costumes are encouraged! Each ticket includes admission for one adult and one child. Additional fee for additional adults will be $10 and can be paid upon arrival.
URL:https://solplayce.com/event/chase-and-skys-mighty-play-date/
LOCATION:Sol Playce\, 6807 Stirling Road\, Davie\, FL\, 33314\, United States
CATEGORIES:Children Event
ATTACH;FMTTYPE=image/jpeg:https://solplayce.com/wp-content/uploads/2023/07/desktop-wallpaper-skye-and-chase-paw-patrol-skye.jpg
END:VEVENT
BEGIN:VEVENT
DTSTART;TZID=UTC:20230918T160000
DTEND;TZID=UTC:20230918T180000
DTSTAMP:20260423T134759
CREATED:20230830T205105Z
LAST-MODIFIED:20230830T205719Z
UID:7891-1695052800-1695060000@solplayce.com
SUMMARY:BYOB: Build Your Own Bear
DESCRIPTION:Join us for a fun afternoon where your little one will get a chance to build a fur-ever friend! They will choose their own bear and watch as it get stuffed and ready just for them! Each child will get to make a wish and create birth certificate.   \nOpen play from 4-6\nBuild Your Own Bear 4:30-5:30  \nNon refundable. No credits will be issued for missing this event.
URL:https://solplayce.com/event/byob-build-your-own-bear/
LOCATION:Sol Playce\, 6807 Stirling Road\, Davie\, FL\, 33314\, United States
CATEGORIES:Children Event
ATTACH;FMTTYPE=image/jpeg:https://solplayce.com/wp-content/uploads/2023/08/Untitled-design-16.jpg
END:VEVENT
BEGIN:VEVENT
DTSTART;TZID=UTC:20230825T100000
DTEND;TZID=UTC:20230825T120000
DTSTAMP:20260423T134759
CREATED:20230809T215956Z
LAST-MODIFIED:20230809T215956Z
UID:7709-1692957600-1692964800@solplayce.com
SUMMARY:Ms. Rachel Play Date + Petting Zoo 3.0
DESCRIPTION:Due to popular demand we are offering a third playdate: Join us for a special visit with Ms. Rachel (impersonator) as little ones will learn all about ANIMALS. This event will include open play\, games\, dancing\, entertainment\, photo opportunities and petting zoo. Costumes are encouraged! Each ticket includes admission for one adult and one child. Additional fee for additional adults will be $10 and can be paid upon arrival. \nNo refunds or credits for events.
URL:https://solplayce.com/event/ms-rachel-play-date-petting-zoo-3-0/
LOCATION:Sol Playce\, 6807 Stirling Road\, Davie\, FL\, 33314\, United States
CATEGORIES:Children Event
ATTACH;FMTTYPE=image/jpeg:https://solplayce.com/wp-content/uploads/2023/07/123_1-2-scaled.jpeg
END:VEVENT
BEGIN:VEVENT
DTSTART;TZID=UTC:20230818T100000
DTEND;TZID=UTC:20230818T120000
DTSTAMP:20260423T134759
CREATED:20230811T205856Z
LAST-MODIFIED:20230811T205856Z
UID:7737-1692352800-1692360000@solplayce.com
SUMMARY:Back to School Dance Party with Coco's Playhouse
DESCRIPTION:Join us for an absolute blast with a back to school bash with Coco’s Playhouse. Coco’s Playhouse is a live DJ show for ages 0-8 filled with music\, dancing\, games and interactive fun.  \nCoco’s Set: 10 AM -11 PM\nOpen Play: 11 AM -12 PM
URL:https://solplayce.com/event/back-to-school-dance-party-with-cocos-playhouse/
LOCATION:Sol Playce\, 6807 Stirling Road\, Davie\, FL\, 33314\, United States
CATEGORIES:Children Event
ATTACH;FMTTYPE=image/jpeg:https://solplayce.com/wp-content/uploads/2023/08/Z_WYwc5E-scaled.jpg
END:VEVENT
BEGIN:VEVENT
DTSTART;TZID=UTC:20230817T160000
DTEND;TZID=UTC:20230817T180000
DTSTAMP:20260423T134759
CREATED:20230802T180619Z
LAST-MODIFIED:20230802T180619Z
UID:7605-1692288000-1692295200@solplayce.com
SUMMARY:Ms. Rachel Play Date + Petting Zoo 2.0
DESCRIPTION:Due to popular demand we are offering a second event: Join us for a special visit with Ms. Rachel (impersonator) as little ones will learn all about ANIMALS. This event will include open play\, games\, dancing\, entertainment\, photo opportunities and petting zoo. Costumes are encouraged! Each ticket includes admission for one adult and one child. Additional fee for additional adults will be $10 and can be paid upon arrival. \nNo refunds or credits for events.
URL:https://solplayce.com/event/ms-rachel-play-date-petting-zoo-2-0/
LOCATION:Sol Playce\, 6807 Stirling Road\, Davie\, FL\, 33314\, United States
CATEGORIES:Children Event
ATTACH;FMTTYPE=image/jpeg:https://solplayce.com/wp-content/uploads/2023/07/123_1-2-scaled.jpeg
END:VEVENT
BEGIN:VEVENT
DTSTART;TZID=UTC:20230807T160000
DTEND;TZID=UTC:20230807T180000
DTSTAMP:20260423T134759
CREATED:20230731T201518Z
LAST-MODIFIED:20230801T215136Z
UID:7526-1691424000-1691431200@solplayce.com
SUMMARY:Ms. Rachel Play Date + Petting Zoo
DESCRIPTION:Join us for a special visit with Ms. Rachel (impersonator) as little ones will learn all about ANIMALS.  This event will include open play\, games\, dancing\, entertainment\, photo opportunities and petting zoo. Costumes are encouraged! Each ticket includes admission for one adult and one child. Additional fee for additional adults will be $10 and can be paid upon arrival. No refunds or credits for events.
URL:https://solplayce.com/event/ms-rachel-play-date-petting-zoo/
LOCATION:Sol Playce\, 6807 Stirling Road\, Davie\, FL\, 33314\, United States
CATEGORIES:Children Event
ATTACH;FMTTYPE=image/jpeg:https://solplayce.com/wp-content/uploads/2023/07/123_1-2-scaled.jpeg
END:VEVENT
BEGIN:VEVENT
DTSTART;TZID=UTC:20230804T100000
DTEND;TZID=UTC:20230804T120000
DTSTAMP:20260423T134759
CREATED:20230720T191913Z
LAST-MODIFIED:20230801T215307Z
UID:7430-1691143200-1691150400@solplayce.com
SUMMARY:Cookie Monster Milk and Cookies Play Date
DESCRIPTION:Join us for milk and cookies with special guest Cookie Monster for National Chocolate Chip Cookie Day. This event will include open play\, games\, dancing\, entertainment and photo opportunities with Cookie Monster. Costumes are encouraged! Each ticket includes admission for one adult and one child. Additional fee for additional adults will be $10 and can be paid upon arrival. No refunds or credits for events.
URL:https://solplayce.com/event/cookie-monster-milk-and-cookies-play-date/
LOCATION:Sol Playce\, 6807 Stirling Road\, Davie\, FL\, 33314\, United States
CATEGORIES:Children Event
ATTACH;FMTTYPE=image/jpeg:https://solplayce.com/wp-content/uploads/2023/07/ab6761610000e5eba3a7cba23d68a4e73c3b8155.jpeg
END:VEVENT
BEGIN:VEVENT
DTSTART;TZID=UTC:20230724T160000
DTEND;TZID=UTC:20230724T180000
DTSTAMP:20260423T134759
CREATED:20230605T204359Z
LAST-MODIFIED:20230627T205023Z
UID:6896-1690214400-1690221600@solplayce.com
SUMMARY:Minnie Mouse's Bowtique
DESCRIPTION:Join us for a special event with Minnie Mouse and Little Princess Spa. This event will include open play\, games\, dancing\, entertainment and photo opportunities with Minnie Mouse plus meet and greet with Little Princess Spa Fairy\, glitter tattoo\, and a goodie bag for every guest. Costumes are encouraged! Each ticket includes admission for one adult and one child. Additional fee for additional adults will be $10 and can be paid upon arrival.
URL:https://solplayce.com/event/minnie-mouses-bowtique/
LOCATION:Sol Playce\, 6807 Stirling Road\, Davie\, FL\, 33314\, United States
CATEGORIES:Children Event
ATTACH;FMTTYPE=image/jpeg:https://solplayce.com/wp-content/uploads/2023/06/IMG_0149.jpg
END:VEVENT
END:VCALENDAR