BEGIN:VCALENDAR
VERSION:2.0
PRODID:-//Sol Playce - ECPv6.0.7.1//NONSGML v1.0//EN
CALSCALE:GREGORIAN
METHOD:PUBLISH
X-ORIGINAL-URL:https://solplayce.com
X-WR-CALDESC:Events for Sol Playce
REFRESH-INTERVAL;VALUE=DURATION:PT1H
X-Robots-Tag:noindex
X-PUBLISHED-TTL:PT1H
BEGIN:VTIMEZONE
TZID:UTC
BEGIN:STANDARD
TZOFFSETFROM:+0000
TZOFFSETTO:+0000
TZNAME:UTC
DTSTART:20210101T000000
END:STANDARD
END:VTIMEZONE
BEGIN:VEVENT
DTSTART;TZID=UTC:20221012T160000
DTEND;TZID=UTC:20221012T180000
DTSTAMP:20260423T195258
CREATED:20220921T191449Z
LAST-MODIFIED:20220926T180148Z
UID:4418-1665590400-1665597600@solplayce.com
SUMMARY:Lev Museum x Sol Sukkot Celebration
DESCRIPTION:Join us for a fun afternoon of open play\,  Sukkot-themed arts and crafts and access to Lev Museum on wheels! \nAbout Lev Museum: \nLEV Children’s Museum creatively engages children and their adults in multi-sensory\, hands-on experiences exploring Jewish culture and values and making connections with Jewish community. Children\, and their grownups\, find meaning and delight in exploring their Jewish Identities through play and filling their Jewish journeys with pride and intention\, regardless of age\, learning style or experience with Judaism. LEV offers meaningful\, play-based interactions with Judaism through four components\, which each embrace tradition\, values\, community and culture – Sunday School\, Experience Kits\, a Museum on Wheels and Professional Development.
URL:https://solplayce.com/event/lev-museum-x-sol-sukkot/
LOCATION:Sol Playce\, 6807 Stirling Road\, Davie\, FL\, 33314\, United States
CATEGORIES:Children Event
ATTACH;FMTTYPE=image/png:https://solplayce.com/wp-content/uploads/2022/09/lev-childrens-museum-logo-200px.png
END:VEVENT
BEGIN:VEVENT
DTSTART;TZID=UTC:20221008T100000
DTEND;TZID=UTC:20221008T120000
DTSTAMP:20260423T195258
CREATED:20220909T202158Z
LAST-MODIFIED:20220929T195557Z
UID:4276-1665223200-1665230400@solplayce.com
SUMMARY:Montce Pop Up Shop & Play
DESCRIPTION:Come join us for a fun morning where mamas shop and kids play! The Montce Mama x mini collection will be on hand to browse through and purchase–plus mamas will enjoy a complimentary mimosa. \nTicket price is for one adult and child admission.
URL:https://solplayce.com/event/montce-pop-up/
LOCATION:Sol Playce\, 6807 Stirling Road\, Davie\, FL\, 33314\, United States
CATEGORIES:Children Event
ATTACH;FMTTYPE=image/jpeg:https://solplayce.com/wp-content/uploads/2022/09/image00001-scaled.jpeg
END:VEVENT
BEGIN:VEVENT
DTSTART;TZID=UTC:20221003T160000
DTEND;TZID=UTC:20221003T180000
DTSTAMP:20260423T195258
CREATED:20220917T013556Z
LAST-MODIFIED:20220917T013556Z
UID:4364-1664812800-1664820000@solplayce.com
SUMMARY:Spider-Man Celebration
DESCRIPTION:It’s Spidey time! Join us for special afternoon with Spider-Man. This fun event will include open play\, games\, craft\, dancing\, entertainment\, photo opportunities and more. Kiddos are encouraged to dress like their favorite super hero. \nOne ticket includes admission for one adult and one child.
URL:https://solplayce.com/event/spider-man-celebration/
LOCATION:Sol Playce\, 6807 Stirling Road\, Davie\, FL\, 33314\, United States
CATEGORIES:Children Event
ATTACH;FMTTYPE=image/png:https://solplayce.com/wp-content/uploads/2022/09/Screen-Shot-2022-09-16-at-5.34.23-PM.png
END:VEVENT
BEGIN:VEVENT
DTSTART;TZID=UTC:20220912T160000
DTEND;TZID=UTC:20220912T180000
DTSTAMP:20260423T195258
CREATED:20220829T192705Z
LAST-MODIFIED:20220829T193211Z
UID:4036-1662998400-1663005600@solplayce.com
SUMMARY:Baby Shark Event
DESCRIPTION:Join us for special afternoon with Baby Shark. This fun event will include open play\, games\, dancing\, entertainment\, photo opportunities and more. \nOne ticket includes admission for one adult and one child.
URL:https://solplayce.com/event/baby-shark-event/
LOCATION:Sol Playce\, 6807 Stirling Road\, Davie\, FL\, 33314\, United States
CATEGORIES:Children Event
ATTACH;FMTTYPE=image/jpeg:https://solplayce.com/wp-content/uploads/2022/08/babyshark-scaled.jpeg
END:VEVENT
BEGIN:VEVENT
DTSTART;TZID=UTC:20220815T160000
DTEND;TZID=UTC:20220815T180000
DTSTAMP:20260423T195258
CREATED:20220731T002822Z
LAST-MODIFIED:20220731T003048Z
UID:3714-1660579200-1660586400@solplayce.com
SUMMARY:Elsa's Frozen Extravaganza
DESCRIPTION:Join us for special afternoon with Elsa from Frozen. This fun event will include open play\, games\, entertainment\, photo opportunities\, a frozen treat and more. Kids are encouraged to dress in their favorite princess and prince attires. \nOne ticket includes admission for one adult and one child.
URL:https://solplayce.com/event/elsas-frozen-extravaganza/
LOCATION:Sol Playce\, 6807 Stirling Road\, Davie\, FL\, 33314\, United States
CATEGORIES:Children Event
ATTACH;FMTTYPE=image/jpeg:https://solplayce.com/wp-content/uploads/2022/07/HD-wallpaper-elsa-frozen-princess-cartoon-animation-disney-thumbnail.jpg
END:VEVENT
BEGIN:VEVENT
DTSTART;TZID=UTC:20220808T160000
DTEND;TZID=UTC:20220808T180000
DTSTAMP:20260423T195258
CREATED:20220725T182016Z
LAST-MODIFIED:20220725T182410Z
UID:3607-1659974400-1659981600@solplayce.com
SUMMARY:Cocomelon Pajama Party
DESCRIPTION:Join us for special afternoon with JJ from Cocomelon. This fun event will include open play\, games\, entertainment\, photo opportunities and more. Kids are encouraged to dress in their favorite pajamas! \nOne ticket includes admission for one adult and one child.
URL:https://solplayce.com/event/cocomelon-pajama-party/
LOCATION:Sol Playce\, 6807 Stirling Road\, Davie\, FL\, 33314\, United States
CATEGORIES:Children Event
ATTACH;FMTTYPE=image/jpeg:https://solplayce.com/wp-content/uploads/2022/07/PHOTO-2022-07-13-11-26-24.jpg
END:VEVENT
BEGIN:VEVENT
DTSTART;TZID=UTC:20220803T160000
DTEND;TZID=UTC:20220803T180000
DTSTAMP:20260423T195258
CREATED:20220714T184818Z
LAST-MODIFIED:20220714T190100Z
UID:3364-1659542400-1659549600@solplayce.com
SUMMARY:Dentist Day with Dr. King
DESCRIPTION:Sol Playce x King Pediatric Dentistry are joining forces to create a special kind of event that features dental education with a fun twist! Dr. Alicia King from King Pediatric Dentistry will be on hand to provide essential education\, fun activities and goodie bags for everyone to take home. \nActivities will include: \n-Play doh station \n-Brushing with Stuffies \n-Cavity Busters \n-Dino Sensory Bin \n-Floss Masters \n$20 per child for open play & activities. One adult is included. \nMembers are free. (If you are a member please call us at 954.533.8957 to reserve your spot.)
URL:https://solplayce.com/event/dentist-day/
LOCATION:Sol Playce\, 6807 Stirling Road\, Davie\, FL\, 33314\, United States
CATEGORIES:Children Event
ATTACH;FMTTYPE=image/jpeg:https://solplayce.com/wp-content/uploads/2022/07/IMG_9717.jpg
END:VEVENT
BEGIN:VEVENT
DTSTART;TZID=UTC:20220725T160000
DTEND;TZID=UTC:20220725T180000
DTSTAMP:20260423T195258
CREATED:20220711T195147Z
LAST-MODIFIED:20220711T202428Z
UID:3362-1658764800-1658772000@solplayce.com
SUMMARY:Under the Sea Party with Ariel
DESCRIPTION:Join us for special afternoon with Princess Ariel from the Little Mermaid . This fun event will include open play\, games\, entertainment\, braiding and more. \nOne ticket includes admission for one adult and one child.
URL:https://solplayce.com/event/under-the-sea-party-with-ariel/
LOCATION:Sol Playce\, 6807 Stirling Road\, Davie\, FL\, 33314\, United States
CATEGORIES:Children Event
ATTACH;FMTTYPE=image/png:https://solplayce.com/wp-content/uploads/2022/07/CB717A67-0FA7-4A4E-BEB4-053ACFE873BC.png
END:VEVENT
BEGIN:VEVENT
DTSTART;TZID=UTC:20220711T160000
DTEND;TZID=UTC:20220711T180000
DTSTAMP:20260423T195258
CREATED:20220706T200236Z
LAST-MODIFIED:20220706T200236Z
UID:3284-1657555200-1657562400@solplayce.com
SUMMARY:Blippi At Sol
DESCRIPTION:Join us for special afternoon with Blippi. This fun event will include open play\, games\, entertainment\, face painting and more. \nOne ticket includes admission for one adult and one child.
URL:https://solplayce.com/event/blippi-at-sol/
LOCATION:Sol Playce\, 6807 Stirling Road\, Davie\, FL\, 33314\, United States
CATEGORIES:Children Event
ATTACH;FMTTYPE=image/png:https://solplayce.com/wp-content/uploads/2022/07/Screen-Shot-2022-07-06-at-12.02.02-PM.png
END:VEVENT
BEGIN:VEVENT
DTSTART;TZID=UTC:20220704T100000
DTEND;TZID=UTC:20220704T120000
DTSTAMP:20260423T195258
CREATED:20220702T002922Z
LAST-MODIFIED:20220702T002922Z
UID:3235-1656928800-1656936000@solplayce.com
SUMMARY:Independence Day Ponies + Open Play
DESCRIPTION:Before the BBQ’s and Fireworks join us for a fun filled morning of open play and pony rides. Dress in your most festive gear and celebrate the USA! Each ticket includes admission for one child\, a pony ride and a juice box. Parents do not need to purchase tickets for themselves.
URL:https://solplayce.com/event/independence-day-ponies-open-play/
LOCATION:Sol Playce\, 6807 Stirling Road\, Davie\, FL\, 33314\, United States
CATEGORIES:Children Event
ATTACH;FMTTYPE=image/jpeg:https://solplayce.com/wp-content/uploads/2022/07/Untitled-design-20.jpg
END:VEVENT
BEGIN:VEVENT
DTSTART;TZID=UTC:20220424T100000
DTEND;TZID=UTC:20220424T120000
DTSTAMP:20260423T195258
CREATED:20210909T225126Z
LAST-MODIFIED:20220406T012422Z
UID:471-1650794400-1650801600@solplayce.com
SUMMARY:Pedsdoctalk Meet & Greet
DESCRIPTION:We are thrilled to be collaborating with Dr. Mona from Pedsdoctalk for a one of a kind play date and meet and greet event wrapped into one. Join us for open play and a Q&A session with Dr. Mona herself.  One ticket = admission for 1 child and 1 adult. \nAbout Dr. Mona: Board Certified Pediatrician\, Dr. Mona Amin is a mom and creator of Pedsdoctalk. Through her 200K followers on Instagram and 1M+ podcast downloads she has cultivated a community in efforts to bring balance to motherhood. She created a New Mom’s Survival Guide and tackles subjects like child health\, development\, parenting and more through out her various channels of content.
URL:https://solplayce.com/event/pedsdoctalk/
LOCATION:Sol Playce\, 6807 Stirling Road\, Davie\, FL\, 33314\, United States
CATEGORIES:Children Event
ATTACH;FMTTYPE=image/png:https://solplayce.com/wp-content/uploads/2021/09/Screen-Shot-2022-03-15-at-8.07.34-PM.png
END:VEVENT
BEGIN:VEVENT
DTSTART;TZID=UTC:20211217T150000
DTEND;TZID=UTC:20211217T170000
DTSTAMP:20260423T195258
CREATED:20211123T203032Z
LAST-MODIFIED:20211210T190926Z
UID:1079-1639753200-1639760400@solplayce.com
SUMMARY:Santa Meet and Greet
DESCRIPTION:Santa is coming to town! \nEach Meet and Greet ticket will include: \n15 minute family photography session with Santa \n10 edited photographs \nOnline Photo Gallery \nGoody Bag \n1 hour of open play (for one child) 
URL:https://solplayce.com/event/santa-meet-and-greet/
LOCATION:Sol Playce\, 6807 Stirling Road\, Davie\, FL\, 33314\, United States
CATEGORIES:Children Event
ATTACH;FMTTYPE=image/png:https://solplayce.com/wp-content/uploads/2021/11/Brown-Minimalist-Merry-Christmas-Instagram-Post.png
END:VEVENT
BEGIN:VEVENT
DTSTART;TZID=UTC:20211208T163000
DTEND;TZID=UTC:20211208T173000
DTSTAMP:20260423T195258
CREATED:20210811T170506Z
LAST-MODIFIED:20211208T202010Z
UID:261-1638981000-1638984600@solplayce.com
SUMMARY:Make Your Own Ice Cream with Peekaboo
DESCRIPTION:I scream\, you scream\, we all scream for Ice Cream! This Make your Own Ice Cream event features Peekaboo Ice Cream\, a local frozen dessert company that specializes in sneaking veggies into their pints. Your little one will get the chance to create a delicious sweet treat with all ingredients\, supplies and utensils provided. \nFor ages 4 and up
URL:https://solplayce.com/event/private-event-2/
LOCATION:FL
CATEGORIES:Children Event
ATTACH;FMTTYPE=image/jpeg:https://solplayce.com/wp-content/uploads/2021/08/Untitled-design-2.jpg
END:VEVENT
BEGIN:VEVENT
DTSTART;TZID=UTC:20211130T170000
DTEND;TZID=UTC:20211130T180000
DTSTAMP:20260423T195258
CREATED:20211125T001928Z
LAST-MODIFIED:20211125T001928Z
UID:1093-1638291600-1638295200@solplayce.com
SUMMARY:Hanukkah Cupcake Decorating Event
DESCRIPTION:Join us as Cake Creations leads a Hanukkah themed cupcake decorating class! Each attendee will receive two cupcakes and will learn different piping techniques as well as decorate with a variety of holiday colored toppings. Best for ages 4 and up.
URL:https://solplayce.com/event/hanukkah-cupcake-decorating-event/
LOCATION:Sol Playce\, 6807 Stirling Road\, Davie\, FL\, 33314\, United States
CATEGORIES:Children Event
ATTACH;FMTTYPE=image/png:https://solplayce.com/wp-content/uploads/2021/11/Untitled-design-6.png
END:VEVENT
BEGIN:VEVENT
DTSTART;TZID=UTC:20211129T100000
DTEND;TZID=UTC:20211129T110000
DTSTAMP:20260423T195258
CREATED:20211115T135743Z
LAST-MODIFIED:20211128T222320Z
UID:948-1638180000-1638183600@solplayce.com
SUMMARY:Smocked Art Hanukkah Sensory Pop Up
DESCRIPTION:Join us for a Hanukkah-themed sensory pop-up event by Smocked Art! This class will feature sensory bin fun to celebrate the holiday of lights. For ages 1-3. \nWe must have at least 10 sign ups in order to run the class. If not enough tickets are sold 24 hours before the event we will refund your ticket.
URL:https://solplayce.com/event/smocked-art-hanukkah-sensory-pop-up/
LOCATION:Sol Playce\, 6807 Stirling Road\, Davie\, FL\, 33314\, United States
CATEGORIES:Children Event
ATTACH;FMTTYPE=image/jpeg:https://solplayce.com/wp-content/uploads/2021/11/image1.jpeg
END:VEVENT
BEGIN:VEVENT
DTSTART;TZID=UTC:20211109T160000
DTEND;TZID=UTC:20211109T170000
DTSTAMP:20260423T195258
CREATED:20211104T192346Z
LAST-MODIFIED:20211104T192416Z
UID:810-1636473600-1636477200@solplayce.com
SUMMARY:Music Class with Stephanie Romay
DESCRIPTION:Join us for a free music class with Stephanie Romay as she promotes her new bilingual sing-along children’s book release Junto Together. All ages welcome
URL:https://solplayce.com/event/music-class-with-stephanie-romay/
LOCATION:Sol Playce\, 6807 Stirling Road\, Davie\, FL\, 33314\, United States
CATEGORIES:Children Event
ATTACH;FMTTYPE=image/jpeg:https://solplayce.com/wp-content/uploads/2021/11/E652DBFF-682C-402F-9E22-66E46D94AADB.jpeg
END:VEVENT
BEGIN:VEVENT
DTSTART;TZID=UTC:20211031T170000
DTEND;TZID=UTC:20211031T190000
DTSTAMP:20260423T195258
CREATED:20210811T170407Z
LAST-MODIFIED:20210917T184119Z
UID:258-1635699600-1635706800@solplayce.com
SUMMARY:Spooktacular Sol Halloween Party
DESCRIPTION:Join us for for the ultimate Halloween party the whole family will enjoy! Spooktacular surprises\, tricks and lots of treats are to be had at our first annual extravaganza. Come wearing your best costumes for a chance to win a grand prize!
URL:https://solplayce.com/event/private-event-1/
LOCATION:FL
CATEGORIES:Children Event
ATTACH;FMTTYPE=image/jpeg:https://solplayce.com/wp-content/uploads/2021/08/Untitled-design.jpg
END:VEVENT
END:VCALENDAR